BEGIN:VCALENDAR
VERSION:2.0
BEGIN:VEVENT
CLASS:PUBLIC
CATEGORIES:MEETING
DTSTART;TZID=America/Chicago:20260315T180000
DTEND;TZID=America/Chicago:20260315T180000
SUMMARY:The Elders at Knuckleheads Saloon
DESCRIPTION:Click here to buy tickets: https://tickets.knuckleheadskc.com/eventperformances.asp?evt=1517\nAge Limit: All Ages
LOCATION:Knuckleheads Saloon - 2715 Rochester Avenue, Kansas City, MO, 64120, US
END:VEVENT

END:VCALENDAR
