BEGIN:VCALENDAR
VERSION:2.0
BEGIN:VEVENT
CLASS:PUBLIC
CATEGORIES:MEETING
DTSTART;TZID=America/Denver:20260307T200000
DTEND;TZID=America/Denver:20260307T200000
SUMMARY:The Elders at Blarney on Belmar
DESCRIPTION:Age Limit: All Ages
LOCATION:Blarney on Belmar - Lakewood Colorado, Lakewood, CO, US
END:VEVENT

END:VCALENDAR
