BEGIN:VCALENDAR
VERSION:2.0
BEGIN:VEVENT
CLASS:PUBLIC
CATEGORIES:MEETING
DTSTART;TZID=America/Chicago:20260606T190000
DTEND;TZID=America/Chicago:20260606T190000
SUMMARY:Purple Monkey at Club LA
DESCRIPTION:Click here to buy tickets: https://www.rockdestin.com\nAge Limit: 16+\n\nDetails: Ticket sales TBA\nOpening for touring Def Leppard Tribute - Excitable
LOCATION:Club LA - 34876 Emerald Coast Parkway, Destin, FL, 32541, US
END:VEVENT

END:VCALENDAR
