BEGIN:VCALENDAR
VERSION:2.0
BEGIN:VEVENT
CLASS:PUBLIC
CATEGORIES:MEETING
DTSTART;TZID=America/Denver:20260305T200000
DTEND;TZID=America/Denver:20260305T200000
SUMMARY:The Elders at Rialto Theater
DESCRIPTION:Age Limit: All Ages
LOCATION:Rialto Theater - Loveland, CO, US
END:VEVENT

END:VCALENDAR
