BEGIN:VCALENDAR
VERSION:2.0
BEGIN:VEVENT
CLASS:PUBLIC
CATEGORIES:MEETING
DTSTART;TZID=America/Mexico_City:20260130T143000
DTEND;TZID=America/Mexico_City:20260130T143000
SUMMARY:The Elders at STRING BREAK CRUISE 2026
DESCRIPTION:Age Limit: All Ages
LOCATION:STRING BREAK CRUISE 2026 - CRUISE LINE, Tbd, MX
END:VEVENT

END:VCALENDAR
