BEGIN:VCALENDAR
VERSION:2.0
BEGIN:VEVENT
CLASS:PUBLIC
CATEGORIES:MEETING
DTSTART;TZID=America/Cancun:20260128T220000
DTEND;TZID=America/Cancun:20260128T220000
SUMMARY:The Elders at STRING BREAK CRUISE 2026
DESCRIPTION:Age Limit: All Ages
LOCATION:STRING BREAK CRUISE 2026 - CRUISE LINE, Cozumel, MX
END:VEVENT

END:VCALENDAR
