BEGIN:VCALENDAR
VERSION:2.0
BEGIN:VEVENT
CLASS:PUBLIC
CATEGORIES:MEETING
DTSTART;TZID=America/New_York:20260125T220000
DTEND;TZID=America/New_York:20260125T220000
SUMMARY:The Elders at STRING BREAK CRUISE 2026
DESCRIPTION:Age Limit: All Ages
LOCATION:STRING BREAK CRUISE 2026 - CRUISE LINE, Fort Lauderdale, FL, 33304, US
END:VEVENT

END:VCALENDAR
