BEGIN:VCALENDAR
VERSION:2.0
BEGIN:VEVENT
CLASS:PUBLIC
CATEGORIES:MEETING
DTSTART;TZID=Australia/Melbourne:20261108T160000
DTEND;TZID=Australia/Melbourne:20261108T160000
SUMMARY:Michael Charles at Paynesville Wine Bar
DESCRIPTION:Age Limit: All Ages\n\nDetails: In 2026 Michael Charles is touring his 19th international tour, the “Where to Next 2026” tour. Known for his expressive guitar work and blistering guitar solos, Australian born, Chicago Blues Hall of Famer, Michael Charles, accompanied by a dynamic, well-rehearsed band, delivers a memorable, multi-genre performance of contemporary blues, blues-based rock and more.  Come out and experience Michael Charles live. The music, and the man, will leave an imprint on your soul.
LOCATION:Paynesville Wine Bar - 1/85 The Esplanade, Paynesville, VIC, 3880, AU
END:VEVENT

END:VCALENDAR
