BEGIN:VCALENDAR
VERSION:2.0
BEGIN:VEVENT
CLASS:PUBLIC
CATEGORIES:MEETING
DTSTART;TZID=America/New_York:20260411T200000
DTEND;TZID=America/New_York:20260411T200000
SUMMARY:Texas Flood at The Spire
DESCRIPTION:Click here to buy tickets: https://www.etix.com/ticket/p/85387627/texas-flood-stevie-ray-vaughan-tribute-plymouth-spire-center-for-performing-arts?partner_id=100&amp;_gl=1*hxfhgf*_gcl_au*NTQwMzY3MTEyLjE3Njc3NTI1ODQ.*_ga*MTY2OTIwNDc0Ni4xNzY3NzUyNTg0*_ga_XE18B0YJX0*czE3Njc3NTI1ODQkbzEkZz\nAge Limit: All Ages
LOCATION:The Spire - Plymouth, MA, US
END:VEVENT

END:VCALENDAR
