BEGIN:VCALENDAR
VERSION:2.0
BEGIN:VEVENT
CLASS:PUBLIC
CATEGORIES:MEETING
DTSTART;TZID=America/New_York:20260521T163000
DTEND;TZID=America/New_York:20260521T163000
SUMMARY:Blake Esse at Death Ridge Brewery
DESCRIPTION:Age Limit: All Ages
LOCATION:Death Ridge Brewery - 5393 higher ground trail, Jeffersonton, VA, 22724, US
END:VEVENT

END:VCALENDAR
