BEGIN:VCALENDAR
VERSION:2.0
BEGIN:VEVENT
CLASS:PUBLIC
CATEGORIES:MEETING
DTSTART;TZID=America/New_York:20260131T160000
DTEND;TZID=America/New_York:20260131T160000
SUMMARY:PR1 Promotions / DJ Tiburon at American Legion Post 266
DESCRIPTION:Age Limit: All Ages\n\nDetails: This will be a ticketed clambake. I’m not sure of the cost, but it is open to the public and we will be outside in the back area, enjoying some good music classic country as well as newer hits. It&#39;s a hoe down!
LOCATION:American Legion Post 266 - 5201 Richardson Rd, Sarasota, FL, 34232, US
END:VEVENT

END:VCALENDAR
