BEGIN:VCALENDAR
VERSION:2.0
BEGIN:VEVENT
CLASS:PUBLIC
CATEGORIES:MEETING
DTSTART;TZID=America/New_York:20260110T190000
DTEND;TZID=America/New_York:20260110T190000
SUMMARY:PR1 Promotions / DJ Tiburon at Salty Jim's
DESCRIPTION:Age Limit: All Ages\n\nDetails: Come see the new expanded patio area and vibe to some music inside with yours truly.   Let&#39;s get into 2026 with some good sounds  Catch the vibe with another PR1 Promotions experience. 
LOCATION:Salty Jim's - 3655 Webber Street, Sarasota, FL, 34232, US
END:VEVENT

END:VCALENDAR
