BEGIN:VCALENDAR
VERSION:2.0
BEGIN:VEVENT
CLASS:PUBLIC
CATEGORIES:MEETING
DTSTART;TZID=America/Chicago:20260530T180000
DTEND;TZID=America/Chicago:20260530T180000
SUMMARY:Michael Charles at 2 Brothers Bar & Grill
DESCRIPTION:Age Limit: All Ages\n\nDetails: \nIn 2026 Michael Charles is touring his 19th international tour, the “Where to Next 2026” tour. Known for his expressive guitar work and blistering guitar solos, Australian born, Chicago Blues Hall of Famer, Michael Charles, accompanied by a dynamic, well-rehearsed band, delivers a memorable, multi-genre performance of contemporary blues, blues-based rock and more.  Come out and experience Michael Charles live. The music, and the man, will leave an imprint on your soul.\n
LOCATION:2 Brothers Bar & Grill - N1161 Clover Road, Genoa City, WI, 53128, US
END:VEVENT

END:VCALENDAR
