BEGIN:VCALENDAR
VERSION:2.0
BEGIN:VEVENT
CLASS:PUBLIC
CATEGORIES:MEETING
DTSTART;TZID=America/Los_Angeles:20260517T200000
DTEND;TZID=America/Los_Angeles:20260517T200000
SUMMARY:Master Boot Record at Brick by Brick
DESCRIPTION:Price: $32.14\nClick here to buy tickets: https://www.ticketweb.com/event/master-boot-record-with-special-brick-by-brick-tickets/14006754?REFID=clientsitewp\nAge Limit: 21+\n\nDetails: All shows at Brick by Brick are 21+, no exceptions. Online sales end 30-minutes before doors unless otherwise noted. All ticket sales are final—no refunds or credits. Tickets cannot be replaced if lost, stolen, or damaged.\n\nNeed help with your purchase? Please contact Ticketweb&#39;s customer support team at info@ticketweb.com.
LOCATION:Brick by Brick - 1130 Buenos Avenue, San Diego, CA, 92110, US
END:VEVENT

END:VCALENDAR
