BEGIN:VCALENDAR
VERSION:2.0
BEGIN:VEVENT
CLASS:PUBLIC
CATEGORIES:MEETING
DTSTART;TZID=America/Detroit:20260507T173000
DTEND;TZID=America/Detroit:20260507T173000
SUMMARY:Bob Hausler at MI Elements
DESCRIPTION:Price: free\nAge Limit: All Ages\n\nDetails: Bob plays a solo acoustic show at one of Michigan&#39;s finest listening rooms. 
LOCATION:MI Elements - 3124 Jefferson Avenue, Midland, MI, 48640, US
END:VEVENT

END:VCALENDAR
