BEGIN:VCALENDAR
VERSION:2.0
BEGIN:VEVENT
CLASS:PUBLIC
CATEGORIES:MEETING
DTSTART;TZID=America/Detroit:20260522T180000
DTEND;TZID=America/Detroit:20260522T180000
SUMMARY:Bob Hausler at Culligan Plaza
DESCRIPTION:Age Limit: All Ages\n\nDetails: Chris Crown and the Get Down Blues band open the Alpena Street performers season at Culligan Plaza.
LOCATION:Culligan Plaza - Culligan Plaza, Alpena, MI, 48707, US
END:VEVENT

END:VCALENDAR
