BEGIN:VCALENDAR
VERSION:2.0
BEGIN:VEVENT
CLASS:PUBLIC
CATEGORIES:MEETING
DTSTART;TZID=America/Winnipeg:20260424T200000
DTEND;TZID=America/Winnipeg:20260424T200000
SUMMARY:Johnny Ravin at Army, Navy and Air Force Veterans Unit 283 Assiniboia
DESCRIPTION:Age Limit: 18+\n\nDetails: RAVIN Rockin&#39; Army, Navy and Air Force Veterans Unit 283 Assiniboia\nTime: 8:00 to 12:00
LOCATION:Army, Navy and Air Force Veterans Unit 283 Assiniboia - 3584 Portage Ave, Winnipeg, MB, R3K 0Z8, CA
END:VEVENT

END:VCALENDAR
