BEGIN:VCALENDAR
VERSION:2.0
BEGIN:VEVENT
CLASS:PUBLIC
CATEGORIES:MEETING
DTSTART;TZID=America/Chicago:20260214T200000
DTEND;TZID=America/Chicago:20260214T200000
SUMMARY:Texas Flood at Broncos Sports Bar & Grill
DESCRIPTION:Age Limit: All Ages
LOCATION:Broncos Sports Bar & Grill - 900 Airport Freeway, Hurst, TX, 76054, US
END:VEVENT

END:VCALENDAR
