BEGIN:VCALENDAR
VERSION:2.0
BEGIN:VEVENT
CLASS:PUBLIC
CATEGORIES:MEETING
DTSTART;TZID=America/Chicago:20260319T200000
DTEND;TZID=America/Chicago:20260319T200000
SUMMARY:Texas Flood at Main Street Crossing
DESCRIPTION:Click here to buy tickets: https://mainstreetcrossing.com/artist-page-stevie-ray-vaughan-tribute-texas-flood/?utm_source=facebook&amp;utm_medium=event&amp;utm_campaign=texas_flood_march_2026&amp;utm_content&amp;utm_term&amp;fbclid=IwY2xjawPFastleHRuA2FlbQIxMABicmlkETFockY1YXBKQ0Myb0ZCekJwc3J0YwZhcHBfa\nAge Limit: All Ages
LOCATION:Main Street Crossing - 111 W Main St, Tomball, TX, 77375, US
END:VEVENT

END:VCALENDAR
