BEGIN:VCALENDAR
VERSION:2.0
BEGIN:VEVENT
CLASS:PUBLIC
CATEGORIES:MEETING
DTSTART;TZID=America/Chicago:20260226T193000
DTEND;TZID=America/Chicago:20260226T193000
SUMMARY:Texas Flood at The Wildey Theatre
DESCRIPTION:Click here to buy tickets: https://ci.ovationtix.com/36241/production/1260760?performanceId=11736739\nAge Limit: All Ages
LOCATION:The Wildey Theatre - South Main Street, Edwardsville, IL, 62025, US
END:VEVENT

END:VCALENDAR
