BEGIN:VCALENDAR
VERSION:2.0
BEGIN:VEVENT
CLASS:PUBLIC
CATEGORIES:MEETING
DTSTART;TZID=America/Chicago:20260313T200000
DTEND;TZID=America/Chicago:20260313T200000
SUMMARY:Texas Flood at Gold Strike Casino
DESCRIPTION:Age Limit: All Ages
LOCATION:Gold Strike Casino - Robinsonville, MS, 38664, US
END:VEVENT

END:VCALENDAR
