BEGIN:VCALENDAR
VERSION:2.0
BEGIN:VEVENT
CLASS:PUBLIC
CATEGORIES:MEETING
DTSTART;TZID=America/Chicago:20260213T203000
DTEND;TZID=America/Chicago:20260213T203000
SUMMARY:Texas Flood at Jackies Brickhouse
DESCRIPTION:Age Limit: All Ages
LOCATION:Jackies Brickhouse - 1053 Farm-To-Market Road 2094, Kemah, TX, 77565, US
END:VEVENT

END:VCALENDAR
