BEGIN:VCALENDAR
VERSION:2.0
BEGIN:VEVENT
CLASS:PUBLIC
CATEGORIES:MEETING
DTSTART;TZID=America/Chicago:20260206T210000
DTEND;TZID=America/Chicago:20260206T210000
SUMMARY:Texas Flood at Fat Daddy's Sports & Spirits Cafe
DESCRIPTION:Age Limit: All Ages
LOCATION:Fat Daddy's Sports & Spirits Cafe - 781 W Debbie Ln, Mansfield, TX, 76063, US
END:VEVENT

END:VCALENDAR
