BEGIN:VCALENDAR
VERSION:2.0
BEGIN:VEVENT
CLASS:PUBLIC
CATEGORIES:MEETING
DTSTART;TZID=America/Chicago:20260116T193000
DTEND;TZID=America/Chicago:20260116T193000
SUMMARY:Brian Grace Music at Hearsay Wine Bar
DESCRIPTION:Age Limit: All Ages\n\nDetails: Brian Grace will be at Hearsay Bar in Stephenville on Friday, January 16th at 7:30 PM!
LOCATION:Hearsay Wine Bar - 270 West College Street, Stephenville, TX, 76401, US
END:VEVENT

END:VCALENDAR
