BEGIN:VCALENDAR
VERSION:2.0
BEGIN:VEVENT
CLASS:PUBLIC
CATEGORIES:MEETING
DTSTART;TZID=America/Chicago:20260110T180000
DTEND;TZID=America/Chicago:20260110T180000
SUMMARY:Brian Grace Music at Bosque Resort Restaurant
DESCRIPTION:Age Limit: All Ages\n\nDetails: Brian Grace will be at Bosque Resort &amp; Restaurant on Saturday, January 10th from 6-9 PM!
LOCATION:Bosque Resort Restaurant - 341 State Hwy 22, Laguna Park, TX, 76644, US
END:VEVENT

END:VCALENDAR
