BEGIN:VCALENDAR
VERSION:2.0
BEGIN:VEVENT
CLASS:PUBLIC
CATEGORIES:MEETING
DTSTART;TZID=America/Detroit:20260614T090000
DTEND;TZID=America/Detroit:20260614T090000
SUMMARY:Bob Hausler at Nor-East'r Music & Arts
DESCRIPTION:Price: Early bird day pass $35 Weekend pass $65\nAge Limit: All Ages\n\nDetails: Great beginning of the summer music festival. 3 days of great music, camping, and community. 
LOCATION:Nor-East'r Music & Arts - 1889 Caldwell Rd, Mio, MI, 48647, US
END:VEVENT

END:VCALENDAR
