BEGIN:VCALENDAR
VERSION:2.0
BEGIN:VEVENT
CLASS:PUBLIC
CATEGORIES:MEETING
DTSTART;TZID=America/Detroit:20260619T180000
DTEND;TZID=America/Detroit:20260619T180000
SUMMARY:Bob Hausler at Culligan Plaza
DESCRIPTION:Price: Good will donation\nAge Limit: All Ages\n\nDetails: Bob Hausler&#39;s solo acoustic show. Crowd favorite. 
LOCATION:Culligan Plaza - Culligan Plaza, Alpena, MI, 48707, US
END:VEVENT

END:VCALENDAR
