BEGIN:VCALENDAR
VERSION:2.0
BEGIN:VEVENT
CLASS:PUBLIC
CATEGORIES:MEETING
DTSTART;TZID=America/Detroit:20260613T090000
DTEND;TZID=America/Detroit:20260613T090000
SUMMARY:Bob Hausler at Nor-East'r Music & Arts
DESCRIPTION:Price: Early bird day pass $35 Weekend pass $65\nClick here to buy tickets: https://www.noreastrfest.org/tickets\nAge Limit: All Ages\n\nDetails: Nor-East&#39;r is an annual roots music festival the second weekend of June at the Oscoda County Fairgrounds in Mio, Mi!
LOCATION:Nor-East'r Music & Arts - 1889 Caldwell Rd, Mio, MI, 48647, US
END:VEVENT

END:VCALENDAR
