BEGIN:VCALENDAR
VERSION:2.0
BEGIN:VEVENT
CLASS:PUBLIC
CATEGORIES:MEETING
DTSTART;TZID=America/Chicago:20260611T200000
DTEND;TZID=America/Chicago:20260611T200000
SUMMARY:Texas Flood at Main Street Crossing
DESCRIPTION:Click here to buy tickets: https://mainstreetcrossing.com/artist-page-jimi-hendrix-tribute-texas-flood/?utm_source=facebook&amp;utm_medium=event&amp;utm_campaign=jimi_hendrix_tribute_june_2026+&amp;utm_content&amp;utm_term&amp;fbclid=IwY2xjawPA6qtleHRuA2FlbQIxMABicmlkETF3YlJLV2JZRndZNFNHeTJac3J0YwZhcH\nAge Limit: All Ages\n\nDetails: Forever Hendrix Show
LOCATION:Main Street Crossing - 111 W Main St, Tomball, TX, 77375, US
END:VEVENT

END:VCALENDAR
