BEGIN:VCALENDAR
VERSION:2.0
BEGIN:VEVENT
CLASS:PUBLIC
CATEGORIES:MEETING
DTSTART;TZID=America/Chicago:20260129T190000
DTEND;TZID=America/Chicago:20260129T190000
SUMMARY:Brian Grace Music at Roscoe's Smokehouse
DESCRIPTION:Age Limit: All Ages\n\nDetails: Brian Grace will be at Roscoe&#39;s. Smokehouse in Burelson on Thursday, January 29th from 7-9 PM!
LOCATION:Roscoe's Smokehouse - 1541 SW Wilshire Blvd, Cleburne, TX, 76028, US
END:VEVENT

END:VCALENDAR
