BEGIN:VCALENDAR
VERSION:2.0
BEGIN:VEVENT
CLASS:PUBLIC
CATEGORIES:MEETING
DTSTART;TZID=America/Chicago:20260117T193000
DTEND;TZID=America/Chicago:20260117T193000
SUMMARY:Brian Grace Music at Chupacabra Craft Beer & Salado Lone Star Winery
DESCRIPTION:Age Limit: All Ages\n\nDetails: Brian Grace will be at Chupacabra Craft Beer &amp; Lone Star Winery on Saturday, January 17th from 7:30-10:30 PM!
LOCATION:Chupacabra Craft Beer & Salado Lone Star Winery - 401 South Main Street, Salado, TX, 76571, US
END:VEVENT

END:VCALENDAR
