BEGIN:VCALENDAR
VERSION:2.0
BEGIN:VEVENT
CLASS:PUBLIC
CATEGORIES:MEETING
DTSTART;TZID=America/Chicago:20260103T190000
DTEND;TZID=America/Chicago:20260103T190000
SUMMARY:Brian Grace Music at Lone Star Bar & Grill
DESCRIPTION:Age Limit: All Ages\n\nDetails: Brian Grace will be at Lone Star Bar &amp; Grill in Burleson on Saturday, January 3rd from 7-10:30 PM!
LOCATION:Lone Star Bar & Grill - 212 West Ellison Street, Burleson, TX, 76028, US
END:VEVENT

END:VCALENDAR
