BEGIN:VCALENDAR
VERSION:2.0
BEGIN:VEVENT
CLASS:PUBLIC
CATEGORIES:MEETING
DTSTART;TZID=America/Chicago:20260102T190000
DTEND;TZID=America/Chicago:20260102T190000
SUMMARY:Brian Grace Music at Shooky's at Parson's Marina
DESCRIPTION:Age Limit: All Ages\n\nDetails: Brian Grace will be at Shooky&#39;s at Parson&#39;s Marina on Friday, January 2nd from 7-10 PM!
LOCATION:Shooky's at Parson's Marina - 287 Lofers Bend Park Road, Whitney, TX, 76692, US
END:VEVENT

END:VCALENDAR
