BEGIN:VCALENDAR
VERSION:2.0
BEGIN:VEVENT
CLASS:PUBLIC
CATEGORIES:MEETING
DTSTART;TZID=America/Los_Angeles:20260422T190000
DTEND;TZID=America/Los_Angeles:20260422T190000
SUMMARY:Victorious Marcus at 😱 OMG WON BEST DANCER at a Drake Bell Holiday Concert WON PRIZE!!! DETAILS IN PRODUCTION!!!
DESCRIPTION:Price: Varies \nClick here to buy tickets: https://www.google.com/search?q=Universal+Studios+Hollywood&amp;oq=&amp;gs_lcrp=EgZjaHJvbWUqCQgBEEUYOxjCAzIHCAAQRRixATIJCAEQRRg7GMIDMgkIAhBFGDsYwgMyCQgDEEUYOxjCAzIJCAQQRRg7GMIDMgkIBRBFGDsYwgMyCQgGEEUYOxjCAzIJCAcQRRg7GMIDMgkICBBFGDsYwgMyCQgJEEUYOxjCAzIJCAoQRRg7GMI\nAge Limit: All Ages\n\nDetails: 😱 OMG WON BEST DANCER at a Drake Bell Holiday Concert WON PRIZE!!! DETAILS IN PRODUCTION!!! ITS REALLY HAPPENING THANKFUL Dec4&amp;5 Las Vegas for My GRAMMY EMMY EQUIVALENT  WORLDWIDE Award Fluxx Artist Of the Year - Media and Entertainment 2025 My Music @universalmusicgroup TV &amp; Radio  Show &#39;The Victorious Marcus Show&#39; @bbsradiotv 🎆Ne
LOCATION:😱 OMG WON BEST DANCER at a Drake Bell Holiday Concert WON PRIZE!!! DETAILS IN PRODUCTION!!! - Universal Studios City Walk Hollywood, Hollywood, CA, 90249, US
END:VEVENT

END:VCALENDAR
