BEGIN:VCALENDAR
VERSION:2.0
BEGIN:VEVENT
CLASS:PUBLIC
CATEGORIES:MEETING
DTSTART;TZID=America/New_York:20260402T170000
DTEND;TZID=America/New_York:20260402T170000
SUMMARY:Bryan K Buchanan at Karaoke at the oaks golf club
DESCRIPTION:Age Limit: All Ages
LOCATION:Karaoke at the oaks golf club - 1264 county road 309, Crescent City, FL, 32112, US
END:VEVENT

END:VCALENDAR
