BEGIN:VCALENDAR
VERSION:2.0
BEGIN:VEVENT
CLASS:PUBLIC
CATEGORIES:MEETING
DTSTART;TZID=America/New_York:20261010T183000
DTEND;TZID=America/New_York:20261010T183000
SUMMARY:Lisa Martin at Route 20 Bar & Grill
DESCRIPTION:Age Limit: All Ages\n\nDetails: Duo show; folk-rock-country-blues; music til 9:30pm
LOCATION:Route 20 Bar & Grill - 2341 Boston Rd, Wilbraham, MA, 01095, US
END:VEVENT

END:VCALENDAR
