BEGIN:VCALENDAR
VERSION:2.0
BEGIN:VEVENT
CLASS:PUBLIC
CATEGORIES:MEETING
DTSTART;TZID=America/New_York:20260906T160000
DTEND;TZID=America/New_York:20260906T160000
SUMMARY:Lisa Martin at Glendale Ridge
DESCRIPTION:Age Limit: All Ages\n\nDetails: Spend a lovely Sunday with us at this beautiful vineyard! Award winning wines, great scenery and darn good music to boot! Bring your own picnic or enjoy the food truck on site (varies by date) Music from 4-7pm
LOCATION:Glendale Ridge - 155 Glendale Road, Southampton, MA, 01073, US
END:VEVENT

END:VCALENDAR
