BEGIN:VCALENDAR
VERSION:2.0
BEGIN:VEVENT
CLASS:PUBLIC
CATEGORIES:MEETING
DTSTART;TZID=America/Chicago:20251220T180000
DTEND;TZID=America/Chicago:20251220T180000
SUMMARY:The Elders at Cure of Ars Activity Center
DESCRIPTION:Price: $25-$75\nClick here to buy tickets: https://eldersmusic.com/upcoming-shows\nAge Limit: 21+\n\nDetails: Jiggle &amp; Jam Holiday Show
LOCATION:Cure of Ars Activity Center - 9401 Mission Road, Leawoos, KS, 66206, US
END:VEVENT

END:VCALENDAR
