BEGIN:VCALENDAR
VERSION:2.0
BEGIN:VEVENT
CLASS:PUBLIC
CATEGORIES:MEETING
DTSTART;TZID=Australia/Melbourne:20261117T200000
DTEND;TZID=Australia/Melbourne:20261117T200000
SUMMARY:Michael Charles at MBAS Tuesday Night
DESCRIPTION:Age Limit: All Ages\n\nDetails: 2026 Tour
LOCATION:MBAS Tuesday Night - 26 Smithfield Road, Kensington, VIC, 3031, AU
END:VEVENT

END:VCALENDAR
