BEGIN:VCALENDAR
VERSION:2.0
BEGIN:VEVENT
CLASS:PUBLIC
CATEGORIES:MEETING
DTSTART;TZID=America/Chicago:20260320T210000
DTEND;TZID=America/Chicago:20260320T210000
SUMMARY:Michael Charles at Sevenwinds Casino, Lodge & Conference Center
DESCRIPTION:Age Limit: 21+ or w/ adult\n\nDetails: 2026 Tour
LOCATION:Sevenwinds Casino, Lodge & Conference Center - Hayward, WI, 54843, US
END:VEVENT

END:VCALENDAR
