BEGIN:VCALENDAR
VERSION:2.0
BEGIN:VEVENT
CLASS:PUBLIC
CATEGORIES:MEETING
DTSTART;TZID=America/New_York:20260410T193000
DTEND;TZID=America/New_York:20260410T193000
SUMMARY:Texas Flood at South Orange Performing Arts Center
DESCRIPTION:Click here to buy tickets: https://www.eventticketscenter.com/texas-flood-south-orange-04-10-2026/7501816/t\nAge Limit: All Ages
LOCATION:South Orange Performing Arts Center - One SOPAC Way, South Orange, NJ, 07079, US
END:VEVENT

END:VCALENDAR
