BEGIN:VCALENDAR
VERSION:2.0
BEGIN:VEVENT
CLASS:PUBLIC
CATEGORIES:MEETING
DTSTART;TZID=Australia/Melbourne:20261128T193000
DTEND;TZID=Australia/Melbourne:20261128T193000
SUMMARY:Michael Charles at Bird's Basement
DESCRIPTION:Age Limit: All Ages\n\nDetails: 2026 Tour
LOCATION:Bird's Basement - 11 Singers Lane, Melbourne, VIC, 3000, AU
END:VEVENT

END:VCALENDAR
