BEGIN:VCALENDAR
VERSION:2.0
BEGIN:VEVENT
CLASS:PUBLIC
CATEGORIES:MEETING
DTSTART;TZID=Europe/Berlin:20251229T200000
DTEND;TZID=Europe/Berlin:20251229T200000
SUMMARY:SCHOOLMYSTAR at Gloria-TheaterBad Säckingen
DESCRIPTION:Click here to buy tickets: https://www.hochrhein-musicals.de/tickets/3_vorstellung.php?VstID=448\nAge Limit: All Ages\n\nDetails: Support for Sameday.
LOCATION:Gloria-TheaterBad Säckingen - Friedrichstrasse 21, Bad SäCkingen, DE
END:VEVENT

END:VCALENDAR
