BEGIN:VCALENDAR
VERSION:2.0
BEGIN:VEVENT
CLASS:PUBLIC
CATEGORIES:MEETING
DTSTART;TZID=America/New_York:20260124T190000
DTEND;TZID=America/New_York:20260124T190000
SUMMARY:PR1 Promotions / DJ Tiburon at Salty Jim's
DESCRIPTION:Price: Free\nAge Limit: 21+\n\nDetails: Saturday Vibes. Come  kick it with your boy and enjoy a mix of today and yesterday as the night progresses.  Good Vibes, good food , &amp; great people. Pool tourney also a5 7pm catch the vibe in 2026    PR1 Promotions
LOCATION:Salty Jim's - 3655 Webber Street, Sarasota, FL, 34232, US
END:VEVENT

END:VCALENDAR
