BEGIN:VCALENDAR
VERSION:2.0
BEGIN:VEVENT
CLASS:PUBLIC
CATEGORIES:MEETING
DTSTART;TZID=America/New_York:20251209T200000
DTEND;TZID=America/New_York:20251209T200000
SUMMARY:PR1 Promotions / DJ Tiburon at Private party
DESCRIPTION:Age Limit: All Ages
LOCATION:Private party - Sarasota, Sepsis, FL, 34231, US
END:VEVENT

END:VCALENDAR
