BEGIN:VCALENDAR
VERSION:2.0
BEGIN:VEVENT
CLASS:PUBLIC
CATEGORIES:MEETING
DTSTART;TZID=America/New_York:20260530T190000
DTEND;TZID=America/New_York:20260530T190000
SUMMARY:Kevin Driscoll at Tommy Joe's
DESCRIPTION:Age Limit: 21+ or w/ adult
LOCATION:Tommy Joe's - 4714 Montgomery Ln, Bethesda, MD, 20814, US
END:VEVENT

END:VCALENDAR
