BEGIN:VCALENDAR
VERSION:2.0
BEGIN:VEVENT
CLASS:PUBLIC
CATEGORIES:MEETING
DTSTART;TZID=America/New_York:20260403T200000
DTEND;TZID=America/New_York:20260403T200000
SUMMARY:Eleni Skiba at Charlies Bar and Grill
DESCRIPTION:Age Limit: All Ages\n\nDetails: Miz Behavin&#39;
LOCATION:Charlies Bar and Grill - SE Indian St, Stuart, FL, 34997, US
END:VEVENT

END:VCALENDAR
