BEGIN:VCALENDAR
VERSION:2.0
BEGIN:VEVENT
CLASS:PUBLIC
CATEGORIES:MEETING
DTSTART;TZID=America/Chicago:20260314T190000
DTEND;TZID=America/Chicago:20260314T190000
SUMMARY:Michael Charles at Marrs-Meyer American Legion Post 991
DESCRIPTION:Age Limit: All Ages\n\nDetails: In 2026 Michael Charles is embarking on his 19th international tour, the “Where to Next 2026” tour. Known for his expressive guitar work and blistering guitar solos, Australian born, Chicago Blues Hall of Famer, Michael Charles acoustic duo delivers a memorable, multi-genre performance of contemporary blues, blues-based rock and more.  Come out and experience Michael Charles live. The music, and the man, will leave an imprint on your soul.
LOCATION:Marrs-Meyer American Legion Post 991 - 11001 South Depot Street, Worth, IL, 60482, US
END:VEVENT

END:VCALENDAR
