BEGIN:VCALENDAR
VERSION:2.0
BEGIN:VEVENT
CLASS:PUBLIC
CATEGORIES:MEETING
DTSTART;TZID=America/Chicago:20251226T200000
DTEND;TZID=America/Chicago:20251226T200000
SUMMARY:Brian Grace Music at Rattlesnake Ballroom
DESCRIPTION:Age Limit: All Ages\n\nDetails: Brian Grace will be at Rattlesnake Ballroom-Roadhouse on Saturday, December 26th from 8-11 PM!
LOCATION:Rattlesnake Ballroom - 3rd Street, Walnut Springs, TX, 76690, US
END:VEVENT

END:VCALENDAR
