BEGIN:VCALENDAR
VERSION:2.0
BEGIN:VEVENT
CLASS:PUBLIC
CATEGORIES:MEETING
DTSTART;TZID=America/Chicago:20251220T213000
DTEND;TZID=America/Chicago:20251220T213000
SUMMARY:Brian Grace Music at BorderTown Sports Bar
DESCRIPTION:Age Limit: All Ages\n\nDetails: Brian Grace and JC Pringle will be at Bordertown Sports Bar &amp; Grill in Glen Rose, TX on Saturday, December 20th from 9:30 PM-12:30 AM!
LOCATION:BorderTown Sports Bar - 2869 Texas 144, Glen Rose, TX, 76043, US
END:VEVENT

END:VCALENDAR
